BEGIN:VCALENDAR
VERSION:2.0
PRODID:-//ChamberMaster//Event Calendar 2.0//EN
METHOD:PUBLISH
X-PUBLISHED-TTL:P3D
REFRESH-INTERVAL:P3D
CALSCALE:GREGORIAN
BEGIN:VEVENT
DTSTART:20200326T173000Z
DTEND:20200326T180000Z
X-MICROSOFT-CDO-ALLDAYEVENT:FALSE
SUMMARY:Webinar: Keeping Remote Workers Engaged
DESCRIPTION:Employee engagement can be a challenge at the best of times...What happens when your employees are no longer in the building?\n\nJoin Employee Engagement Advisor Sandy Merritt for a brief webinar on how to keep your employees engaged\, connected\, and productive while they work remotely.\n\n\n\nRegister here.
X-ALT-DESC;FMTTYPE=text/html:<div>\n<div>\n<p>Employee engagement can be a challenge at the best of times...What happens when your employees are no longer in the building?</p>\n\n<p>Join Employee Engagement Advisor Sandy Merritt for a brief webinar on how to keep your employees engaged\, connected\, and productive while they work remotely.<br />\n<br />\nRegister <a href="https://www.eventbrite.com/e/webinar-keeping-remote-workers-engaged-tickets-100820621192">here.</a></p>\n</div>\n</div>\n
LOCATION:Online event
UID:e.9037.5664
SEQUENCE:3
DTSTAMP:20260425T213950Z
URL:http://smaba.chambermaster.com/events/details/webinar-keeping-remote-workers-engaged-5664
END:VEVENT

END:VCALENDAR
