BEGIN:VCALENDAR
VERSION:2.0
PRODID:-//ChamberMaster//Event Calendar 2.0//EN
METHOD:PUBLISH
X-PUBLISHED-TTL:P3D
REFRESH-INTERVAL:P3D
CALSCALE:GREGORIAN
BEGIN:VEVENT
DTSTART:20200930T000000Z
DTEND:20201002T210000Z
X-MICROSOFT-CDO-ALLDAYEVENT:FALSE
SUMMARY:Virtual Business Expo
DESCRIPTION:The 2020 Business Expo\, presented by The Chamber of St. Matthews\, will be held virtually.\n\nThe virtual expo site will include an opportunity for vendors to have a 3-5 minute video describing their services and products as well as a chance to connect with attendees through the ability to schedule a one to one.\n\nIn addition\, we will be running webinars and virtual networking events throughout the duration of the expo on the events page. Attendees will need to register for the event when they login and contact information will be shared with vendors.
X-ALT-DESC;FMTTYPE=text/html:<div class="kvgmc6g5 cxmmr5t8 oygrvhab hcukyx3x c1et5uql" style="overflow-wrap: break-word\; margin: 0px\; font-family: &quot\;Segoe UI Historic&quot\;\, &quot\;Segoe UI&quot\;\, Helvetica\, Arial\, sans-serif\; color: rgb(5\, 5\, 5)\; font-size: 15px\; background-color: rgb(255\, 255\, 255)\;">The 2020 Business Expo\, presented by The Chamber of St. Matthews\, will be held virtually.</div>\n\n<div class="o9v6fnle cxmmr5t8 oygrvhab hcukyx3x c1et5uql" style="overflow-wrap: break-word\; margin: 0.5em 0px 0px\; font-family: &quot\;Segoe UI Historic&quot\;\, &quot\;Segoe UI&quot\;\, Helvetica\, Arial\, sans-serif\; color: rgb(5\, 5\, 5)\; font-size: 15px\; background-color: rgb(255\, 255\, 255)\;">The virtual expo site will include an opportunity for vendors to have a 3-5 minute video describing their services and products as well as a chance to connect with attendees through the ability to schedule a one to one.</div>\n\n<div class="o9v6fnle cxmmr5t8 oygrvhab hcukyx3x c1et5uql" style="overflow-wrap: break-word\; margin: 0.5em 0px 0px\; font-family: &quot\;Segoe UI Historic&quot\;\, &quot\;Segoe UI&quot\;\, Helvetica\, Arial\, sans-serif\; color: rgb(5\, 5\, 5)\; font-size: 15px\; background-color: rgb(255\, 255\, 255)\;">In addition\, we will be running webinars and virtual networking events throughout the duration of the expo on the events page. Attendees will need to register for the event when they login and contact information will be shared with vendors.</div>\n
LOCATION:
UID:e.9037.6088
SEQUENCE:3
DTSTAMP:20260424T065528Z
URL:http://smaba.chambermaster.com/events/details/virtual-business-expo-6088
END:VEVENT

END:VCALENDAR
