BEGIN:VCALENDAR
VERSION:2.0
PRODID:-//ChamberMaster//Event Calendar 2.0//EN
METHOD:PUBLISH
X-PUBLISHED-TTL:P3D
REFRESH-INTERVAL:P3D
CALSCALE:GREGORIAN
BEGIN:VEVENT
DTSTART:20200114T133000Z
DTEND:20200114T143000Z
X-MICROSOFT-CDO-ALLDAYEVENT:FALSE
SUMMARY:Member Orientation
DESCRIPTION:Member Orientation is designed to bring new and existing members together for a brief session of networking and learning provided by the Chamber staff.  The first thirty minutes of New Member Orientation is for open networking. A presentation will be provided by the Chamber staff going over all aspects of the Chamber from networking\, events\, board members\, affinity partner programs\, and ways to promote your business.
X-ALT-DESC;FMTTYPE=text/html:<span style="font-family:arial\,sans-serif\;"><span style="font-size:10.5pt\;">Member Orientation&nbsp\;is designed to bring new and existing members&nbsp\;together for a brief session of networking and learning provided by the Chamber staff.&nbsp\;&nbsp\;The first thirty minutes of New Member Orientation is for&nbsp\;open networking. A presentation will be provided by the Chamber staff going over all aspects of the Chamber from networking\, events\, board members\, affinity partner programs\, and ways to promote your business.&nbsp\;&nbsp\;</span></span>
LOCATION:Girl Scouts of Kentuckiana Troop House 2115 Lexington Rd Louisville\, KY 40206
UID:e.9037.5616
SEQUENCE:3
DTSTAMP:20260424T231613Z
URL:http://smaba.chambermaster.com/events/details/member-orientation-5616
END:VEVENT

END:VCALENDAR
