BEGIN:VCALENDAR
VERSION:2.0
PRODID:-//ChamberMaster//Event Calendar 2.0//EN
METHOD:PUBLISH
X-PUBLISHED-TTL:P3D
REFRESH-INTERVAL:P3D
CALSCALE:GREGORIAN
BEGIN:VEVENT
DTSTART:20200407T153000Z
DTEND:20200407T163000Z
X-MICROSOFT-CDO-ALLDAYEVENT:FALSE
SUMMARY:Lunch & Learn - Using "Wheels" for strategic decision-making
DESCRIPTION:The Life Wheel and Business Wheel have been a successful tool with business owners to make the best decisions and setting priorities for themselves and their business. Learn how to use them for yourself during this session.
X-ALT-DESC;FMTTYPE=text/html:<span style="color:rgb(0\, 0\, 0)\; font-family:roboto\,sans-serif\; font-size:18px">The Life Wheel and Business Wheel have been a successful tool with business owners to make the best decisions and setting priorities for themselves and their business. Learn how to use them for yourself during this session.</span>
LOCATION:VIRTUAL VIA ZOOM MEETING
UID:e.9037.5676
SEQUENCE:3
DTSTAMP:20260424T120819Z
URL:http://smaba.chambermaster.com/events/details/lunch-learn-using-wheels-for-strategic-decision-making-5676
END:VEVENT

END:VCALENDAR
