BEGIN:VCALENDAR
VERSION:2.0
PRODID:-//ChamberMaster//Event Calendar 2.0//EN
METHOD:PUBLISH
X-PUBLISHED-TTL:P3D
REFRESH-INTERVAL:P3D
CALSCALE:GREGORIAN
BEGIN:VEVENT
DTSTART:20210909T160000Z
DTEND:20210909T210000Z
X-MICROSOFT-CDO-ALLDAYEVENT:FALSE
SUMMARY:Business Expo
DESCRIPTION:Lights. Camera. Action! All eyes are on you and your business in this blockbuster event. Come showcase your business and the services you provide at The Chamber of  St. Matthews Business Expo on September 9. Members and Non-Member participants are encouraged to  decorate their booth space with their favorite movie.\n\n\n\nThe Expo will be September 9  from 12  5 PM at The Olmsted with an anticipated crowd of 200 300 attendees and a maximum of 65 exhibitor spaces.\n\nEvery attendee that day will receive a box office pass with destinations in the room that they need to visit in order to be entered into the grand prize drawing. To have your company highlighted on their passes  and become a Box Office  sponsor\, please contact Josh Suiter at (502) 899-2523 or email JoshS@stmatthewschamber.com.\n\nGet creative and have fun with this year's theme! The best decorated booth will also receive a prize!\n\n \n\nDownload vendor form at: https://stmatthewschamb.sharepoint.com/:b:/g/ER2zh-IKlfhMgmmWXhOWXd8BJllJu6gRfVsakv3z3UBx6w?e=NuwHdr
X-ALT-DESC;FMTTYPE=text/html:<span style="language:en-US\;"><span style="font-family:amplitude-book\;"><span style="font-size:12.0pt\;">Lights. Camera. Action! All eyes are on you and your business in this blockbuster event. Come showcase your business and the services you provide at The Chamber of&nbsp\; St. Matthews Business Expo on September 9. Members and Non-Member participants are encouraged to&nbsp\; decorate their booth space with their favorite movie.</span></span></span><br />\n<br />\n<span style="language:en-US\;"><span style="font-family:amplitude-book\;"><span style="font-size:12.0pt\;">The Expo will be September 9&nbsp\; from 12&mdash\; 5 PM at The Olmsted with an anticipated crowd of 200&mdash\;300 attendees and a maximum of 65 exhibitor spaces.</span></span></span><br />\n<span style="language:en-US\;"><span style="font-family:amplitude-book\;"><span style="font-size:12.0pt\;">Every attendee that day will receive a box office pass with destinations in the room that they need to visit in order to be entered into the grand prize drawing. To have your company highlighted on their passes&nbsp\; and&nbsp\;become a Box Office&nbsp\; sponsor\, please contact Josh Suiter at (502) 899-2523 or email JoshS@stmatthewschamber.com.</span></span></span><br />\n<span style="language:en-US\;"><span style="font-family:amplitude-book\;"><span style="font-size:12.0pt\;">Get creative and have fun with this year&rsquo\;s theme! The best decorated booth will also receive a prize!</span></span></span><br />\n&nbsp\;<br />\nDownload vendor form at: https://stmatthewschamb.sharepoint.com/:b:/g/ER2zh-IKlfhMgmmWXhOWXd8BJllJu6gRfVsakv3z3UBx6w?e=NuwHdr
LOCATION:The Olmsted 3701 Frankfort Ave. Louisville\, KY 40207
UID:e.9037.6246
SEQUENCE:3
DTSTAMP:20260421T181130Z
URL:http://smaba.chambermaster.com/events/details/business-expo-6246
END:VEVENT

END:VCALENDAR
